BEGIN:VCALENDAR
VERSION:2.0
PRODID:-//CJV Vlaardingen - ECPv6.15.19//NONSGML v1.0//EN
CALSCALE:GREGORIAN
METHOD:PUBLISH
X-WR-CALNAME:CJV Vlaardingen
X-ORIGINAL-URL:https://cjvvlaardingen.nl
X-WR-CALDESC:Evenementen voor CJV Vlaardingen
REFRESH-INTERVAL;VALUE=DURATION:PT1H
X-Robots-Tag:noindex
X-PUBLISHED-TTL:PT1H
BEGIN:VTIMEZONE
TZID:Europe/Amsterdam
BEGIN:DAYLIGHT
TZOFFSETFROM:+0100
TZOFFSETTO:+0200
TZNAME:CEST
DTSTART:20210328T010000
END:DAYLIGHT
BEGIN:STANDARD
TZOFFSETFROM:+0200
TZOFFSETTO:+0100
TZNAME:CET
DTSTART:20211031T010000
END:STANDARD
BEGIN:DAYLIGHT
TZOFFSETFROM:+0100
TZOFFSETTO:+0200
TZNAME:CEST
DTSTART:20220327T010000
END:DAYLIGHT
BEGIN:STANDARD
TZOFFSETFROM:+0200
TZOFFSETTO:+0100
TZNAME:CET
DTSTART:20221030T010000
END:STANDARD
BEGIN:DAYLIGHT
TZOFFSETFROM:+0100
TZOFFSETTO:+0200
TZNAME:CEST
DTSTART:20230326T010000
END:DAYLIGHT
BEGIN:STANDARD
TZOFFSETFROM:+0200
TZOFFSETTO:+0100
TZNAME:CET
DTSTART:20231029T010000
END:STANDARD
END:VTIMEZONE
BEGIN:VEVENT
DTSTART;TZID=Europe/Amsterdam:20220401T163000
DTEND;TZID=Europe/Amsterdam:20220401T173000
DTSTAMP:20260425T002012
CREATED:20181204T144527Z
LAST-MODIFIED:20220617T104803Z
UID:4386-1648830600-1648834200@cjvvlaardingen.nl
SUMMARY:Freerunning
DESCRIPTION:Freerunning\nVoor iedereen van 9 t/m 12 jaar\nFreerunning is een combinatie van atletiek en turnen. Je leert verschillende coole moves en tricks waarmee je van punt A naar punt B kunt komen. Ren\, spring\, rol of vlieg over verschillende objecten. Freerun Professional Vincent komt speciaal langs om jullie de kneepjes van het vak te leren. \nDatum en tijdstip: Vrijdag 01 en 08 april\,  13\, 20 mei en 03\, 10\, 17\, 24 juni 2022 van 16.30 tot 17.30. Totaal 8 bijeenkomsten\nLocatie: Gymzaal Lissabonweg 10\nKosten: € 58 voor leden\, €68 voor niet-leden \nKlik hier om aan te melden
URL:https://cjvvlaardingen.nl/agenda/freerunning-2-2022/
LOCATION:Gymzaal Lissabonweg 10
CATEGORIES:Freerunning
ATTACH;FMTTYPE=image/jpeg:https://cjvvlaardingen.nl/wp-content/uploads/2018/09/Freerunning1-e1536848871478.jpg
END:VEVENT
END:VCALENDAR