BEGIN:VCALENDAR
VERSION:2.0
PRODID:-//CJV Vlaardingen - ECPv6.15.19//NONSGML v1.0//EN
CALSCALE:GREGORIAN
METHOD:PUBLISH
X-ORIGINAL-URL:https://cjvvlaardingen.nl
X-WR-CALDESC:Evenementen voor CJV Vlaardingen
REFRESH-INTERVAL;VALUE=DURATION:PT1H
X-Robots-Tag:noindex
X-PUBLISHED-TTL:PT1H
BEGIN:VTIMEZONE
TZID:Europe/Amsterdam
BEGIN:DAYLIGHT
TZOFFSETFROM:+0100
TZOFFSETTO:+0200
TZNAME:CEST
DTSTART:20220327T010000
END:DAYLIGHT
BEGIN:STANDARD
TZOFFSETFROM:+0200
TZOFFSETTO:+0100
TZNAME:CET
DTSTART:20221030T010000
END:STANDARD
BEGIN:DAYLIGHT
TZOFFSETFROM:+0100
TZOFFSETTO:+0200
TZNAME:CEST
DTSTART:20230326T010000
END:DAYLIGHT
BEGIN:STANDARD
TZOFFSETFROM:+0200
TZOFFSETTO:+0100
TZNAME:CET
DTSTART:20231029T010000
END:STANDARD
BEGIN:DAYLIGHT
TZOFFSETFROM:+0100
TZOFFSETTO:+0200
TZNAME:CEST
DTSTART:20240331T010000
END:DAYLIGHT
BEGIN:STANDARD
TZOFFSETFROM:+0200
TZOFFSETTO:+0100
TZNAME:CET
DTSTART:20241027T010000
END:STANDARD
END:VTIMEZONE
BEGIN:VEVENT
DTSTART;TZID=Europe/Amsterdam:20230305T120000
DTEND;TZID=Europe/Amsterdam:20230305T160000
DTSTAMP:20260424T004304
CREATED:20230303T160442Z
LAST-MODIFIED:20230303T160537Z
UID:8301-1678017600-1678032000@cjvvlaardingen.nl
SUMMARY:Chillinn tieneractiviteit: zwemmen
DESCRIPTION:Met de Chill-inn tienergroep gaan we zwemmen op 5 maart! \nOm 12 uur verzamelen we in gebouw Obadja\, waarna we naar zwembad Dol-fijn fietsen. \nDe activiteit is vanaf 12 jaar. \n  \n\nAanmelden via hier\n 
URL:https://cjvvlaardingen.nl/agenda/zwemmen/
CATEGORIES:Film
ATTACH;FMTTYPE=image/jpeg:https://cjvvlaardingen.nl/wp-content/uploads/2022/10/WhatsApp-Image-2023-02-28-at-09.35.09.jpeg
END:VEVENT
END:VCALENDAR