BEGIN:VCALENDAR
VERSION:2.0
PRODID:-//CJV Vlaardingen - ECPv6.15.19//NONSGML v1.0//EN
CALSCALE:GREGORIAN
METHOD:PUBLISH
X-WR-CALNAME:CJV Vlaardingen
X-ORIGINAL-URL:https://cjvvlaardingen.nl
X-WR-CALDESC:Evenementen voor CJV Vlaardingen
REFRESH-INTERVAL;VALUE=DURATION:PT1H
X-Robots-Tag:noindex
X-PUBLISHED-TTL:PT1H
BEGIN:VTIMEZONE
TZID:Europe/Amsterdam
BEGIN:DAYLIGHT
TZOFFSETFROM:+0100
TZOFFSETTO:+0200
TZNAME:CEST
DTSTART:20180325T010000
END:DAYLIGHT
BEGIN:STANDARD
TZOFFSETFROM:+0200
TZOFFSETTO:+0100
TZNAME:CET
DTSTART:20181028T010000
END:STANDARD
BEGIN:DAYLIGHT
TZOFFSETFROM:+0100
TZOFFSETTO:+0200
TZNAME:CEST
DTSTART:20190331T010000
END:DAYLIGHT
BEGIN:STANDARD
TZOFFSETFROM:+0200
TZOFFSETTO:+0100
TZNAME:CET
DTSTART:20191027T010000
END:STANDARD
BEGIN:DAYLIGHT
TZOFFSETFROM:+0100
TZOFFSETTO:+0200
TZNAME:CEST
DTSTART:20200329T010000
END:DAYLIGHT
BEGIN:STANDARD
TZOFFSETFROM:+0200
TZOFFSETTO:+0100
TZNAME:CET
DTSTART:20201025T010000
END:STANDARD
END:VTIMEZONE
BEGIN:VEVENT
DTSTART;TZID=Europe/Amsterdam:20190626T190000
DTEND;TZID=Europe/Amsterdam:20190626T200000
DTSTAMP:20260419T144853
CREATED:20190624T153000Z
LAST-MODIFIED:20190624T153000Z
UID:4969-1561575600-1561579200@cjvvlaardingen.nl
SUMMARY:Waterfestijn
DESCRIPTION:De temperaturen zijn flink gestegen en het hitteplan is in werking getreden. Dit geldt ook voor de zomerspelen van CJV Vlaardingen. Aanstaande woensdag 26 juni van 19.00 tot 20.00 kunnen alle kinderen in de leeftijd van 8 tot 14 jaar komen afkoelen bij het Waterfestijn op het sportveld van het Groen van Prinstererlyceum. Ouders zijn ook welkom\, speciaal voor hen is er deze avond een terras. \nVoor de kinderen is er een zeephelling en we gaan de leukste waterspellen met elkaar doen. Trek je zwemkleding aan\, neem je waterpistool mee en kom met ons meedoen. Toegang is gratis\, vooraf aanmelden is niet nodig. \n  \n 
URL:https://cjvvlaardingen.nl/agenda/waterfestijn/
ATTACH;FMTTYPE=image/jpeg:https://cjvvlaardingen.nl/wp-content/uploads/2019/06/Larice-Schuurbiers-27-juni-24.jpg
END:VEVENT
BEGIN:VEVENT
DTSTART;TZID=Europe/Amsterdam:20190408T163000
DTEND;TZID=Europe/Amsterdam:20190408T173000
DTSTAMP:20260419T144853
CREATED:20180906T133747Z
LAST-MODIFIED:20190401T122700Z
UID:4100-1554741000-1554744600@cjvvlaardingen.nl
SUMMARY:Proefles Dance Kids Mini
DESCRIPTION:Kom op maandag 8 april meedoen met de gratis proefles Dance Kids Mini voor kleuters van 4 t/m 6 jaar. Deze dansles is van 16.30 tot 17.30 in Jeugdgebouw Obadja\, Willem Beukelsznstraat 49. Tijdens de lessen leren de kinderen bewegen op muziek en doen we een hoop spelletjes. Ook hebben we veel plezier met elkaar. Juf Hélene heeft al veel ervaring en geeft altijd een leuke invulling aan de les. \nVooraf aanmelden is niet nodig. Je mag gewoon binnenlopen en al je vriendjes en vriendinnen zijn natuurlijk ook welkom.
URL:https://cjvvlaardingen.nl/agenda/proefles-dance-kids-mini/
LOCATION:Jeugdgebouw Obadja\, Willem Beukelsznstraat 49\, Vlaardingen
CATEGORIES:Dans
ATTACH;FMTTYPE=image/jpeg:https://cjvvlaardingen.nl/wp-content/uploads/2018/09/Dancekids-e1536241043188.jpg
END:VEVENT
END:VCALENDAR