BEGIN:VCALENDAR
VERSION:2.0
PRODID:-//CJV Vlaardingen - ECPv6.15.19//NONSGML v1.0//EN
CALSCALE:GREGORIAN
METHOD:PUBLISH
X-WR-CALNAME:CJV Vlaardingen
X-ORIGINAL-URL:https://cjvvlaardingen.nl
X-WR-CALDESC:Evenementen voor CJV Vlaardingen
REFRESH-INTERVAL;VALUE=DURATION:PT1H
X-Robots-Tag:noindex
X-PUBLISHED-TTL:PT1H
BEGIN:VTIMEZONE
TZID:UTC
BEGIN:STANDARD
TZOFFSETFROM:+0000
TZOFFSETTO:+0000
TZNAME:UTC
DTSTART:20210101T000000
END:STANDARD
END:VTIMEZONE
BEGIN:VEVENT
DTSTART;TZID=UTC:20221026T133000
DTEND;TZID=UTC:20221026T150000
DTSTAMP:20260420T040312
CREATED:20220531T171401Z
LAST-MODIFIED:20221020T140613Z
UID:7909-1666791000-1666796400@cjvvlaardingen.nl
SUMMARY:FICO-film - Samoerai Henk
DESCRIPTION:De vrolijke hond Henk droomt van een leven als samoerai in een land waar katten de baas zijn.\nTerwijl alle katten hem wantrouwen\, neemt Jimbo\, ooit een grote samoerai\, Henk met veel tegenzin onder zijn hoede.\nSamen moeten ze vechten om hun stad te beschermen tegen de gevreesde generaal. \n\n\nSpeelduur: 98 minuten\, Nederlands gesproken.\nFICO \nKom gezellig film kijken tijdens de FICO. Eén keer per maand draaien wij op zaterdagmiddag de nieuwste kinderfilms voor alle leeftijden. Bekijk deze kinderfilms op groot scherm met een dolby surround systeem! Dus kom gezellig langs met je vrienden en vriendinnen. In de pauze kan je bij de bar lekkere snoepjes en flesjes limonade kopen. Probeer zo veel mogelijk met gepast geld te betalen of met de Pin. \n\nLocatie: Triangel\, Fransenstraat 12\nAanvang: 13.30 uur\, de kaartverkoop begint een half uur voor aanvang.\nToegangsprijzen: € 2\,00 voor leden en € 3\,50 voor niet leden\n\nReserveer je kaartjes hier.\n 
URL:https://cjvvlaardingen.nl/agenda/fico-film-samoerai-henk/
LOCATION:Triangel\, Fransenstraat 12
CATEGORIES:Film
ATTACH;FMTTYPE=image/jpeg:https://cjvvlaardingen.nl/wp-content/uploads/2022/05/fico-oktober2-2022.jpg
END:VEVENT
END:VCALENDAR