BEGIN:VCALENDAR
VERSION:2.0
PRODID:-//CJV Vlaardingen - ECPv6.15.19//NONSGML v1.0//EN
CALSCALE:GREGORIAN
METHOD:PUBLISH
X-ORIGINAL-URL:https://cjvvlaardingen.nl
X-WR-CALDESC:Evenementen voor CJV Vlaardingen
REFRESH-INTERVAL;VALUE=DURATION:PT1H
X-Robots-Tag:noindex
X-PUBLISHED-TTL:PT1H
BEGIN:VTIMEZONE
TZID:Europe/Amsterdam
BEGIN:DAYLIGHT
TZOFFSETFROM:+0100
TZOFFSETTO:+0200
TZNAME:CEST
DTSTART:20210328T010000
END:DAYLIGHT
BEGIN:STANDARD
TZOFFSETFROM:+0200
TZOFFSETTO:+0100
TZNAME:CET
DTSTART:20211031T010000
END:STANDARD
BEGIN:DAYLIGHT
TZOFFSETFROM:+0100
TZOFFSETTO:+0200
TZNAME:CEST
DTSTART:20220327T010000
END:DAYLIGHT
BEGIN:STANDARD
TZOFFSETFROM:+0200
TZOFFSETTO:+0100
TZNAME:CET
DTSTART:20221030T010000
END:STANDARD
BEGIN:DAYLIGHT
TZOFFSETFROM:+0100
TZOFFSETTO:+0200
TZNAME:CEST
DTSTART:20230326T010000
END:DAYLIGHT
BEGIN:STANDARD
TZOFFSETFROM:+0200
TZOFFSETTO:+0100
TZNAME:CET
DTSTART:20231029T010000
END:STANDARD
END:VTIMEZONE
BEGIN:VEVENT
DTSTART;TZID=Europe/Amsterdam:20221210T133000
DTEND;TZID=Europe/Amsterdam:20221210T150000
DTSTAMP:20260419T230727
CREATED:20220901T084902Z
LAST-MODIFIED:20221110T105251Z
UID:8091-1670679000-1670684400@cjvvlaardingen.nl
SUMMARY:FICO-fim: Minions 2
DESCRIPTION:3D-animatiefilm hoe de grootste superschurk ter wereld zijn iconische Minions ontmoet en met hen de meest verschrikkelijke crew uit de filmgeschiedenis vormt. Samen nemen ze het op tegen een team van de meest onverschrokken criminelen! \nSpeelduur: 83 minuten\, Nederlands gesproken.\nFICO \nKom gezellig film kijken tijdens de FICO. Eén keer per maand draaien wij op zaterdagmiddag de nieuwste kinderfilms voor alle leeftijden. Bekijk deze kinderfilms op groot scherm met een dolby surround systeem! Dus kom gezellig langs met je vrienden en vriendinnen. In de pauze kan je bij de bar lekkere snoepjes en flesjes limonade kopen. Probeer zo veel mogelijk met gepast geld te betalen of met de Pin. \n\nLocatie: Triangel\, Fransenstraat 12\nAanvang: 13.30 uur\, de kaartverkoop begint een half uur voor aanvang.\nToegangsprijzen: € 2\,00 voor leden en € 3\,50 voor niet leden\n\nReserveer je kaartjes hier.\n 
URL:https://cjvvlaardingen.nl/agenda/fico-fim-sept/
CATEGORIES:Film
ATTACH;FMTTYPE=image/jpeg:https://cjvvlaardingen.nl/wp-content/uploads/2022/09/fico-december-2022.jpg
END:VEVENT
END:VCALENDAR