BEGIN:VCALENDAR
VERSION:2.0
PRODID:-//CJV Vlaardingen - ECPv6.15.19//NONSGML v1.0//EN
CALSCALE:GREGORIAN
METHOD:PUBLISH
X-WR-CALNAME:CJV Vlaardingen
X-ORIGINAL-URL:https://cjvvlaardingen.nl
X-WR-CALDESC:Evenementen voor CJV Vlaardingen
REFRESH-INTERVAL;VALUE=DURATION:PT1H
X-Robots-Tag:noindex
X-PUBLISHED-TTL:PT1H
BEGIN:VTIMEZONE
TZID:Europe/Amsterdam
BEGIN:DAYLIGHT
TZOFFSETFROM:+0100
TZOFFSETTO:+0200
TZNAME:CEST
DTSTART:20210328T010000
END:DAYLIGHT
BEGIN:STANDARD
TZOFFSETFROM:+0200
TZOFFSETTO:+0100
TZNAME:CET
DTSTART:20211031T010000
END:STANDARD
BEGIN:DAYLIGHT
TZOFFSETFROM:+0100
TZOFFSETTO:+0200
TZNAME:CEST
DTSTART:20220327T010000
END:DAYLIGHT
BEGIN:STANDARD
TZOFFSETFROM:+0200
TZOFFSETTO:+0100
TZNAME:CET
DTSTART:20221030T010000
END:STANDARD
BEGIN:DAYLIGHT
TZOFFSETFROM:+0100
TZOFFSETTO:+0200
TZNAME:CEST
DTSTART:20230326T010000
END:DAYLIGHT
BEGIN:STANDARD
TZOFFSETFROM:+0200
TZOFFSETTO:+0100
TZNAME:CET
DTSTART:20231029T010000
END:STANDARD
END:VTIMEZONE
BEGIN:VEVENT
DTSTART;TZID=Europe/Amsterdam:20221105T133000
DTEND;TZID=Europe/Amsterdam:20221105T150000
DTSTAMP:20260420T004717
CREATED:20190911T125213Z
LAST-MODIFIED:20221018T082843Z
UID:5068-1667655000-1667660400@cjvvlaardingen.nl
SUMMARY:FICO film - Knor
DESCRIPTION:Voor haar negende verjaardag krijgt Babs van haar opa uit Amerika het varkentje Knor cadeau.\nHaar ouders zijn daar niet zo blij mee. Alleen op voorwaarde dat Knor een puppycursus volgt\, mag Babs hem houden. \n\n\n  \n\nSpeelduur: 98 minuten\, Nederlands gesproken.\nFICO \nKom gezellig film kijken tijdens de FICO. Eén keer per maand draaien wij op zaterdagmiddag de nieuwste kinderfilms voor alle leeftijden. Bekijk deze kinderfilms op groot scherm met een dolby surround systeem! Dus kom gezellig langs met je vrienden en vriendinnen. In de pauze kan je bij de bar lekkere snoepjes en flesjes limonade kopen. Probeer zo veel mogelijk met gepast geld te betalen of met de Pin. \n\nLocatie: Triangel\, Fransenstraat 12\nAanvang: 13.30 uur\, de kaartverkoop begint een half uur voor aanvang.\nToegangsprijzen: € 2\,00 voor leden en € 3\,50 voor niet leden\n\nReserveer je kaartjes hier.\n 
URL:https://cjvvlaardingen.nl/agenda/fico-film-knor/
LOCATION:Triangel\, Fransenstraat 12
CATEGORIES:Film
ATTACH;FMTTYPE=image/jpeg:https://cjvvlaardingen.nl/wp-content/uploads/2019/09/fico-november-2022.jpg
END:VEVENT
END:VCALENDAR