BEGIN:VCALENDAR
VERSION:2.0
PRODID:-//CJV Vlaardingen - ECPv6.15.19//NONSGML v1.0//EN
CALSCALE:GREGORIAN
METHOD:PUBLISH
X-WR-CALNAME:CJV Vlaardingen
X-ORIGINAL-URL:https://cjvvlaardingen.nl
X-WR-CALDESC:Evenementen voor CJV Vlaardingen
REFRESH-INTERVAL;VALUE=DURATION:PT1H
X-Robots-Tag:noindex
X-PUBLISHED-TTL:PT1H
BEGIN:VTIMEZONE
TZID:Europe/Amsterdam
BEGIN:DAYLIGHT
TZOFFSETFROM:+0100
TZOFFSETTO:+0200
TZNAME:CEST
DTSTART:20240331T010000
END:DAYLIGHT
BEGIN:STANDARD
TZOFFSETFROM:+0200
TZOFFSETTO:+0100
TZNAME:CET
DTSTART:20241027T010000
END:STANDARD
BEGIN:DAYLIGHT
TZOFFSETFROM:+0100
TZOFFSETTO:+0200
TZNAME:CEST
DTSTART:20250330T010000
END:DAYLIGHT
BEGIN:STANDARD
TZOFFSETFROM:+0200
TZOFFSETTO:+0100
TZNAME:CET
DTSTART:20251026T010000
END:STANDARD
BEGIN:DAYLIGHT
TZOFFSETFROM:+0100
TZOFFSETTO:+0200
TZNAME:CEST
DTSTART:20260329T010000
END:DAYLIGHT
BEGIN:STANDARD
TZOFFSETFROM:+0200
TZOFFSETTO:+0100
TZNAME:CET
DTSTART:20261025T010000
END:STANDARD
END:VTIMEZONE
BEGIN:VEVENT
DTSTART;VALUE=DATE:20250614
DTEND;VALUE=DATE:20250616
DTSTAMP:20260420T084634
CREATED:20250609T104216Z
LAST-MODIFIED:20250609T104232Z
UID:11317-1749859200-1750031999@cjvvlaardingen.nl
SUMMARY:CJV Theatergroep speelt: "Om op te vreten"
DESCRIPTION:Zaterdag 14 en zondag 15 juni voert de CJV jongeren theatergroep een drietal voorstellingen op in gebouw Triangel. Een superleuk theaterstuk waarin het gaat over liefde\, vertrouwen en schoonheidsidealen. \nOm op te vreten is een toneelstuk met bekende personages als Cyrano de Bergerac\, Narcissus\, Casanova\, Medusa\, Carmen\, Roxane\, Dorian Gray\, Sweeney Todd en Miss Lovett. \nDe theatergroep heeft er zelf songs aan toegevoegd\, waardoor het een vrolijke musical is geworden\, met songs die passend zijn op de teksten\, maar toch ook weer ver van elkaar afstaan. \nDe moeite waard om te komen kijken. Er zijn nog enkele kaarten. De kaarten kosten €10\,00 per stuk en zijn te verkrijgen via Everlyne Mostert:\ne.mostertvanklink@gmail.com of 06-51930240. \nOm op te vreten wordt uitgevoerd op zaterdag 14 juni om 14.00 en 19.30 uur en zondag 15 juni 14.00 uur. Gebouw Triangel\, Fransenstraat 12\, Vlaardingen. \nGraag tot ziens in Triangel.
URL:https://cjvvlaardingen.nl/agenda/om-op-te-vreten/
CATEGORIES:Theater,Tieners
ATTACH;FMTTYPE=image/jpeg:https://cjvvlaardingen.nl/wp-content/uploads/2025/06/WhatsApp-Image-2025-06-07-at-12.24.19.jpeg
END:VEVENT
BEGIN:VEVENT
DTSTART;VALUE=DATE:20250823
DTEND;VALUE=DATE:20250828
DTSTAMP:20260420T084634
CREATED:20220101T163307Z
LAST-MODIFIED:20250528T220809Z
UID:7429-1755907200-1756339199@cjvvlaardingen.nl
SUMMARY:Theaterkamp 2025
DESCRIPTION:Ga deze zomer mee met het Theaterkamp. Elke dag oefenen we voor het eindstuk! \nHet Theaterkamp wordt verzorgd door enthousiaste vrijwilligers van CJV Vlaardingen. Op dit moment is de leiding alweer druk aan het nadenken over het programma van komende zomer. Tijdens deze week werken we toe naar een eindvoorstelling waarbij twee familieleden mogen komen kijken. \nDaarnaast zijn er nog tal van andere kampactiviteiten\, zoals een speurtocht door de omgeving\, bosspelen\, zingen bij het kampvuur\, waterspelen en luieren in de grote speeltuin van het kamphuis. Een team van ervaren leiding gaat met jou mee om er een topweek van te maken. \nOp zaterdag 23 augustus vertrekken we met een bus gezamenlijk naar Amerongen. Het theaterkamp vindt plaats in ons eigen kamphuis ‘De Blauwe Schuur’ in Amerongen. Prachtig gelegen aan de bosrand van De Utrechtse Heuvelrug. Op het buitenterrein staan speeltoestellen\, klimrekken en sportvelden. En op woensdag 21 augustus komen de genodigde (2 pers per kind) mee eten en naar de voorstelling kijken. Zij nemen jou na de voorstelling weer mee naar huis. \nHet theaterkamp is inmiddels vol.
URL:https://cjvvlaardingen.nl/agenda/theaterkamp/
LOCATION:De Blauwe Schuur\, Amerongen
CATEGORIES:Kamp,Theater
ATTACH;FMTTYPE=image/jpeg:https://cjvvlaardingen.nl/wp-content/uploads/2022/01/DSC00803_Original.jpeg
END:VEVENT
END:VCALENDAR