BEGIN:VCALENDAR
VERSION:2.0
PRODID:-//CJV Vlaardingen - ECPv6.15.19//NONSGML v1.0//EN
CALSCALE:GREGORIAN
METHOD:PUBLISH
X-ORIGINAL-URL:https://cjvvlaardingen.nl
X-WR-CALDESC:Evenementen voor CJV Vlaardingen
REFRESH-INTERVAL;VALUE=DURATION:PT1H
X-Robots-Tag:noindex
X-PUBLISHED-TTL:PT1H
BEGIN:VTIMEZONE
TZID:UTC
BEGIN:STANDARD
TZOFFSETFROM:+0000
TZOFFSETTO:+0000
TZNAME:UTC
DTSTART:20220101T000000
END:STANDARD
END:VTIMEZONE
BEGIN:VEVENT
DTSTART;VALUE=DATE:20231209
DTEND;VALUE=DATE:20231211
DTSTAMP:20260421T065316
CREATED:20230819T112419Z
LAST-MODIFIED:20230819T112419Z
UID:8899-1702080000-1702252799@cjvvlaardingen.nl
SUMMARY:Uitvoering Musicalgroep: "Scrooge"
DESCRIPTION:Op 9 en 10 december speelt de CJV Musicalgroep de voorstelling Scrooge in Lyceum Vos. \nDe tijden en prijzen volgen later via deze pagina.
URL:https://cjvvlaardingen.nl/agenda/uitvoering-musicalgroep-scrooge/
CATEGORIES:Theater
ATTACH;FMTTYPE=image/jpeg:https://cjvvlaardingen.nl/wp-content/uploads/2023/08/367990796_278181058256421_1803330892232935960_n.jpg
END:VEVENT
END:VCALENDAR