BEGIN:VCALENDAR
VERSION:2.0
PRODID:-//CJV Vlaardingen - ECPv6.15.19//NONSGML v1.0//EN
CALSCALE:GREGORIAN
METHOD:PUBLISH
X-ORIGINAL-URL:https://cjvvlaardingen.nl
X-WR-CALDESC:Evenementen voor CJV Vlaardingen
REFRESH-INTERVAL;VALUE=DURATION:PT1H
X-Robots-Tag:noindex
X-PUBLISHED-TTL:PT1H
BEGIN:VTIMEZONE
TZID:Europe/Amsterdam
BEGIN:DAYLIGHT
TZOFFSETFROM:+0100
TZOFFSETTO:+0200
TZNAME:CEST
DTSTART:20240331T010000
END:DAYLIGHT
BEGIN:STANDARD
TZOFFSETFROM:+0200
TZOFFSETTO:+0100
TZNAME:CET
DTSTART:20241027T010000
END:STANDARD
BEGIN:DAYLIGHT
TZOFFSETFROM:+0100
TZOFFSETTO:+0200
TZNAME:CEST
DTSTART:20250330T010000
END:DAYLIGHT
BEGIN:STANDARD
TZOFFSETFROM:+0200
TZOFFSETTO:+0100
TZNAME:CET
DTSTART:20251026T010000
END:STANDARD
BEGIN:DAYLIGHT
TZOFFSETFROM:+0100
TZOFFSETTO:+0200
TZNAME:CEST
DTSTART:20260329T010000
END:DAYLIGHT
BEGIN:STANDARD
TZOFFSETFROM:+0200
TZOFFSETTO:+0100
TZNAME:CET
DTSTART:20261025T010000
END:STANDARD
BEGIN:DAYLIGHT
TZOFFSETFROM:+0100
TZOFFSETTO:+0200
TZNAME:CEST
DTSTART:20270328T010000
END:DAYLIGHT
BEGIN:STANDARD
TZOFFSETFROM:+0200
TZOFFSETTO:+0100
TZNAME:CET
DTSTART:20271031T010000
END:STANDARD
END:VTIMEZONE
BEGIN:VEVENT
DTSTART;TZID=Europe/Amsterdam:20251128T191500
DTEND;TZID=Europe/Amsterdam:20251128T211500
DTSTAMP:20260420T005455
CREATED:20251104T114737Z
LAST-MODIFIED:20251104T120719Z
UID:11489-1764357300-1764364500@cjvvlaardingen.nl
SUMMARY:Pepernotendisco 2025!
DESCRIPTION:De gezelligste avond van het jaar komt er weer aan! Trek je pietenmuts\, feestkleding of glitteroutfit aan en kom swingen op de Pepernotendisco van CJV Vlaardingen! 💃🕺 \nWe draaien de leukste hits\, strooien met pepernoten! (natuurlijk 😋) \nNeem je vriendjes en vriendinnetjes mee en kom samen genieten van een avond vol muziek\, spelletjes\, lekkers en feestgedruis. \nZorg dat je erbij bent — want de Pepernotendisco is elk jaar weer één groot dansfestijn! 🎉 \nAanmelden
URL:https://cjvvlaardingen.nl/agenda/pepernotendisco-2025/
LOCATION:Triangel\, Fransenstraat 12
CATEGORIES:Dans,Disco,spel
ATTACH;FMTTYPE=image/png:https://cjvvlaardingen.nl/wp-content/uploads/2025/11/PNdisco-25.png
END:VEVENT
BEGIN:VEVENT
DTSTART;TZID=Europe/Amsterdam:20260818T100000
DTEND;TZID=Europe/Amsterdam:20260820T160000
DTSTAMP:20260420T005455
CREATED:20260401T142008Z
LAST-MODIFIED:20260401T142127Z
UID:11734-1787047200-1787241600@cjvvlaardingen.nl
SUMMARY:Zomer 3 Daagse 2026
DESCRIPTION:☀️ Zomerdriedaagse Vlaardingen – Drie dagen vol plezier! 🎉 \nBen jij klaar voor drie onvergetelijke dagen deze zomer? Tijdens de Zomerdriedaagse in Vlaardingen beleven kinderen een geweldige tijd vol leuke workshops\, spannende spelletjes en vooral heel veel gezelligheid!\nSamen met andere kinderen wordt er gelachen\, ontdekt en gespeeld. Elke dag zit boordevol verrassende activiteiten waarbij je nieuwe vrienden maakt en mooie herinneringen creëert. Of je nu houdt van creatief bezig zijn\, actief spelen of gewoon lekker samen plezier maken – de Zomerdriedaagse heeft het allemaal! \n🎈 Drie dagen plezier\n🎨 Leuke en afwisselende workshops\n🤸‍♂️ Spel en beweging\n😄 Nieuwe vrienden en heel veel lachen \nMis het niet en beleef de leukste dagen van je zomer! 🌞 \nWanneer: 18 – 19 – 20 augustus\, elke dag van 10:00 tot 16:00\nWaar: WIJ-land Holy\, Boederijpad 5\nVoor wie: Kinderen tussen 7 en 12 jaar\nKosten: 30\,- (leden) / 36\,- (geen lid) \nZien we jou daar? Zet het in je agenda en neem je vrienden mee! 💛 \nAanmelden kan via onderstaande link: \nAanmelden\n  \n 
URL:https://cjvvlaardingen.nl/agenda/zomer2daagse-2/
LOCATION:WIJ-Land Holy\, Boederijpad 5\, Vlaardingen\, Zuid Holland\, 3137 RR
CATEGORIES:Dagevenement,Junioren,spel,Sport,Zomerdriedaagse
ATTACH;FMTTYPE=image/png:https://cjvvlaardingen.nl/wp-content/uploads/2026/04/Website-Z3D-2026.png
END:VEVENT
END:VCALENDAR