BEGIN:VCALENDAR
VERSION:2.0
PRODID:-//CJV Vlaardingen - ECPv6.15.19//NONSGML v1.0//EN
CALSCALE:GREGORIAN
METHOD:PUBLISH
X-WR-CALNAME:CJV Vlaardingen
X-ORIGINAL-URL:https://cjvvlaardingen.nl
X-WR-CALDESC:Evenementen voor CJV Vlaardingen
REFRESH-INTERVAL;VALUE=DURATION:PT1H
X-Robots-Tag:noindex
X-PUBLISHED-TTL:PT1H
BEGIN:VTIMEZONE
TZID:Europe/Amsterdam
BEGIN:DAYLIGHT
TZOFFSETFROM:+0100
TZOFFSETTO:+0200
TZNAME:CEST
DTSTART:20220327T010000
END:DAYLIGHT
BEGIN:STANDARD
TZOFFSETFROM:+0200
TZOFFSETTO:+0100
TZNAME:CET
DTSTART:20221030T010000
END:STANDARD
BEGIN:DAYLIGHT
TZOFFSETFROM:+0100
TZOFFSETTO:+0200
TZNAME:CEST
DTSTART:20230326T010000
END:DAYLIGHT
BEGIN:STANDARD
TZOFFSETFROM:+0200
TZOFFSETTO:+0100
TZNAME:CET
DTSTART:20231029T010000
END:STANDARD
BEGIN:DAYLIGHT
TZOFFSETFROM:+0100
TZOFFSETTO:+0200
TZNAME:CEST
DTSTART:20240331T010000
END:DAYLIGHT
BEGIN:STANDARD
TZOFFSETFROM:+0200
TZOFFSETTO:+0100
TZNAME:CET
DTSTART:20241027T010000
END:STANDARD
END:VTIMEZONE
BEGIN:VEVENT
DTSTART;TZID=Europe/Amsterdam:20230303T133000
DTEND;TZID=Europe/Amsterdam:20230303T150000
DTSTAMP:20260424T035333
CREATED:20230210T115215Z
LAST-MODIFIED:20230210T115215Z
UID:8522-1677850200-1677855600@cjvvlaardingen.nl
SUMMARY:Levend Mario Party
DESCRIPTION:Heb jij wel eens het spel Mario Party gespeeld? Op 3 maart spelen wij dit spel in het echt in gebouw Obadja. In teams probeer je tijdens het bordspel zoveel mogelijk sterren en munten te verzamelen die je met korte spelletjes kan winnen. \nTussendoor drinken en eten we iets lekkers. \n  \nDatum en tijdstip: Vrijdag 3 maart 13:30-15:00 \nLeeftijd: 8 t/m 12 jaar \nLocatie: Jeugdgebouw Obadja\, Willem Beukelszoonstraat 49 \nKosten: €3\,- voor leden\, €4\,- voor niet-leden \n  \nAanmelden kan via de volgende link: \nAanmelden
URL:https://cjvvlaardingen.nl/agenda/levend-mario-party/
LOCATION:Zuid Holland
CATEGORIES:spel
ATTACH;FMTTYPE=image/jpeg:https://cjvvlaardingen.nl/wp-content/uploads/2023/02/pagina01-scaled.jpg
END:VEVENT
END:VCALENDAR