BEGIN:VCALENDAR
VERSION:2.0
PRODID:-//CJV Vlaardingen - ECPv6.15.19//NONSGML v1.0//EN
CALSCALE:GREGORIAN
METHOD:PUBLISH
X-WR-CALNAME:CJV Vlaardingen
X-ORIGINAL-URL:https://cjvvlaardingen.nl
X-WR-CALDESC:Evenementen voor CJV Vlaardingen
REFRESH-INTERVAL;VALUE=DURATION:PT1H
X-Robots-Tag:noindex
X-PUBLISHED-TTL:PT1H
BEGIN:VTIMEZONE
TZID:UTC
BEGIN:STANDARD
TZOFFSETFROM:+0000
TZOFFSETTO:+0000
TZNAME:UTC
DTSTART:20210101T000000
END:STANDARD
END:VTIMEZONE
BEGIN:VEVENT
DTSTART;TZID=UTC:20220410T130000
DTEND;TZID=UTC:20220410T150000
DTSTAMP:20260425T004350
CREATED:20220331T192023Z
LAST-MODIFIED:20220331T193138Z
UID:7723-1649595600-1649602800@cjvvlaardingen.nl
SUMMARY:Chill-In Paintball\, 12 t/m 16 jaar
DESCRIPTION:Zondag 10 april wordt het rennen\, springen en achter je vrienden schuilen tijdens het Chill-In Paintball event! Voeg je bij een van de teams en bedelf het veld (en de tegenstanders!) in de kleuren van jouw team. \nBen jij er klaar voor? \nDeze paintballwapens maken gebruik van veerkracht in plaats van luchtdruk; zo komen de verfballetjes minder hard aan en worden blauwe plekken voorkomen.\nHoewel de verf zowel biologisch afbreekbaar is als uitwasbaar\, is het natuurlijk wel handig om die dag oude kleding aan te doen.\n\nLeeftijd: 12 t/m 16 jaar\nDatum en tijdstip: Zondag 10 april van 13.00 tot 15.00\nLocatie: Verzamelen in Obadja\, Willem Beukelszoonstraat 49. Daarna gaan we naar Boefjesbond Oost\nKosten:  € 7\,- voor leden\n€ 9\,- voor niet-leden. \nKlik hier om je aan te melden!
URL:https://cjvvlaardingen.nl/agenda/chill-in-paintball-12-t-m-16-jaar/
LOCATION:Jeugdgebouw Obadja\, Willem Beukelsznstraat 49\, Vlaardingen
CATEGORIES:spel,Sport,Tieners
ATTACH;FMTTYPE=image/jpeg:https://cjvvlaardingen.nl/wp-content/uploads/2022/03/WhatsApp-Image-2022-03-31-at-8.15.27-PM.jpeg
END:VEVENT
END:VCALENDAR