BEGIN:VCALENDAR
VERSION:2.0
PRODID:-//CJV Vlaardingen - ECPv6.15.19//NONSGML v1.0//EN
CALSCALE:GREGORIAN
METHOD:PUBLISH
X-WR-CALNAME:CJV Vlaardingen
X-ORIGINAL-URL:https://cjvvlaardingen.nl
X-WR-CALDESC:Evenementen voor CJV Vlaardingen
REFRESH-INTERVAL;VALUE=DURATION:PT1H
X-Robots-Tag:noindex
X-PUBLISHED-TTL:PT1H
BEGIN:VTIMEZONE
TZID:Europe/Amsterdam
BEGIN:DAYLIGHT
TZOFFSETFROM:+0100
TZOFFSETTO:+0200
TZNAME:CEST
DTSTART:20230326T010000
END:DAYLIGHT
BEGIN:STANDARD
TZOFFSETFROM:+0200
TZOFFSETTO:+0100
TZNAME:CET
DTSTART:20231029T010000
END:STANDARD
BEGIN:DAYLIGHT
TZOFFSETFROM:+0100
TZOFFSETTO:+0200
TZNAME:CEST
DTSTART:20240331T010000
END:DAYLIGHT
BEGIN:STANDARD
TZOFFSETFROM:+0200
TZOFFSETTO:+0100
TZNAME:CET
DTSTART:20241027T010000
END:STANDARD
BEGIN:DAYLIGHT
TZOFFSETFROM:+0100
TZOFFSETTO:+0200
TZNAME:CEST
DTSTART:20250330T010000
END:DAYLIGHT
BEGIN:STANDARD
TZOFFSETFROM:+0200
TZOFFSETTO:+0100
TZNAME:CET
DTSTART:20251026T010000
END:STANDARD
END:VTIMEZONE
BEGIN:VEVENT
DTSTART;TZID=Europe/Amsterdam:20240609T000000
DTEND;TZID=Europe/Amsterdam:20240609T000000
DTSTAMP:20260422T235645
CREATED:20240527T140040Z
LAST-MODIFIED:20240527T140425Z
UID:9288-1717891200-1717891200@cjvvlaardingen.nl
SUMMARY:CHILLINN-ACTIVITEIT: CRAZY 88
DESCRIPTION:Zondag 9 juni staat er weer een Chillinn-activiteit op de planning!\nKom met ons buiten CRAZY 88 spelen in Vlaardingen!\nBen jij gek op samen met je vrienden leuke opdrachten uitvoeren?\nSchrijf je dan snel in! \nWe verzamelen rond 12:00 bij gebouw Obadja. Kom je ook? \nLet op:  \n\nWe gaan dus naar buiten\, neem regenkleding mee wanneer nodig.\nNeem een opgeladen telefoon mee! (voor foto’s en video’s van jullie opdrachten)\nMinimaal 3 inschrijvingen!\n\n  \nAanmelden kan via onderstaande link: \nAanmelden
URL:https://cjvvlaardingen.nl/agenda/chillinn-activiteit-crazy88/
LOCATION:Jeugdgebouw Obadja\, Willem Beukelsznstraat 49\, Vlaardingen
CATEGORIES:spel,Tieners
ATTACH;FMTTYPE=image/png:https://cjvvlaardingen.nl/wp-content/uploads/2024/05/CRAZY-88.png
END:VEVENT
END:VCALENDAR