BEGIN:VCALENDAR
VERSION:2.0
PRODID:-//CJV Vlaardingen - ECPv6.15.19//NONSGML v1.0//EN
CALSCALE:GREGORIAN
METHOD:PUBLISH
X-WR-CALNAME:CJV Vlaardingen
X-ORIGINAL-URL:https://cjvvlaardingen.nl
X-WR-CALDESC:Evenementen voor CJV Vlaardingen
REFRESH-INTERVAL;VALUE=DURATION:PT1H
X-Robots-Tag:noindex
X-PUBLISHED-TTL:PT1H
BEGIN:VTIMEZONE
TZID:UTC
BEGIN:STANDARD
TZOFFSETFROM:+0000
TZOFFSETTO:+0000
TZNAME:UTC
DTSTART:20220101T000000
END:STANDARD
END:VTIMEZONE
BEGIN:VEVENT
DTSTART;TZID=UTC:20230704T190000
DTEND;TZID=UTC:20230704T200000
DTSTAMP:20260423T195439
CREATED:20230629T142413Z
LAST-MODIFIED:20230629T142413Z
UID:8805-1688497200-1688500800@cjvvlaardingen.nl
SUMMARY:Zomerspelen 2023
DESCRIPTION:Op dinsdag 4 juli organiseert CJV Vlaardingen van 19:00 tot 20:00 de Zomerspelen. Dit is een avond vol gave kampspellen voor kinderen van 7 t/m 12 jaar op het sportveld van het Groen van Prinstererlyceum\, (ingang Lyceumlaan). We gaan allerlei leuke spelletjes doen!!\nJe hoeft je van te voren niet aan te melden\, iedereen is welkom!\nData en tijdstip: Dinsdag 4 juli van 19.00 tot 20.00\nLeeftijd: van 7 t/m 12 jaar\nLocatie: Sportveld van het Groen van Prinstererlyceum\nGratis deelname
URL:https://cjvvlaardingen.nl/agenda/zomerspelen-2023/
LOCATION:Sportveld Lyceumlaan\, Lyceumlaan\, Vlaardingen\, Zuid Holland\, Nederland
CATEGORIES:spel,Sport
ATTACH;FMTTYPE=image/jpeg:https://cjvvlaardingen.nl/wp-content/uploads/2023/06/002.jpg
END:VEVENT
END:VCALENDAR