BEGIN:VCALENDAR
VERSION:2.0
PRODID:-//CJV Vlaardingen - ECPv6.15.19//NONSGML v1.0//EN
CALSCALE:GREGORIAN
METHOD:PUBLISH
X-ORIGINAL-URL:https://cjvvlaardingen.nl
X-WR-CALDESC:Evenementen voor CJV Vlaardingen
REFRESH-INTERVAL;VALUE=DURATION:PT1H
X-Robots-Tag:noindex
X-PUBLISHED-TTL:PT1H
BEGIN:VTIMEZONE
TZID:Europe/Amsterdam
BEGIN:DAYLIGHT
TZOFFSETFROM:+0100
TZOFFSETTO:+0200
TZNAME:CEST
DTSTART:20210328T010000
END:DAYLIGHT
BEGIN:STANDARD
TZOFFSETFROM:+0200
TZOFFSETTO:+0100
TZNAME:CET
DTSTART:20211031T010000
END:STANDARD
BEGIN:DAYLIGHT
TZOFFSETFROM:+0100
TZOFFSETTO:+0200
TZNAME:CEST
DTSTART:20220327T010000
END:DAYLIGHT
BEGIN:STANDARD
TZOFFSETFROM:+0200
TZOFFSETTO:+0100
TZNAME:CET
DTSTART:20221030T010000
END:STANDARD
BEGIN:DAYLIGHT
TZOFFSETFROM:+0100
TZOFFSETTO:+0200
TZNAME:CEST
DTSTART:20230326T010000
END:DAYLIGHT
BEGIN:STANDARD
TZOFFSETFROM:+0200
TZOFFSETTO:+0100
TZNAME:CET
DTSTART:20231029T010000
END:STANDARD
END:VTIMEZONE
BEGIN:VEVENT
DTSTART;TZID=Europe/Amsterdam:20220805T193000
DTEND;TZID=Europe/Amsterdam:20220805T223000
DTSTAMP:20260424T154529
CREATED:20220125T111100Z
LAST-MODIFIED:20220818T060216Z
UID:7542-1659727800-1659738600@cjvvlaardingen.nl
SUMMARY:Chillinn\, leeftijd 12 t/m 16
DESCRIPTION:Chillin is de plek waar tieners in de leeftijd van 12 t/m 16 jaar met elkaar samenkomen en plezier maken. Eens per maand op vrijdagavond openen we de deuren om met elkaar samen te komen\, een potje te poolen\, te gamen en een spelletjes te spelen. Af en toe hebbe we thema-avonden zoals E-Sports\, filmavond of lasergame. Ook kijken we naar de mogelijkheden om te kunnen gamen. Toegang is gratis\, wij zorgen voor wat lekkers te eten en te drinken. Locatie: Jeugdgebouw Obadja\, Willem Beukelszoonstraat 49. \nData en tijdstippen:\n\nWorden binnenkort weer online gezet\n\nAanmelden:\nBij voorkeur vragen we je om onderstaand aanmeldformulier invullen\, ook mogelijk om je ter plekke aan te melden bij de ingang. \n\n	Bericht: JavaScript is vereist voor deze inhoud.\n\n\n    \n\n\n        \n        \n        \n  \n 
URL:https://cjvvlaardingen.nl/agenda/chillin-leeftijd-12-t-m-16/
LOCATION:Jeugdgebouw Obadja\, Willem Beukelsznstraat 49\, Vlaardingen
CATEGORIES:spel,Tieners
ATTACH;FMTTYPE=image/jpeg:https://cjvvlaardingen.nl/wp-content/uploads/2022/01/WhatsApp-Image-2022-04-24-at-4.53.19-PM-1.jpeg
END:VEVENT
END:VCALENDAR