BEGIN:VCALENDAR
VERSION:2.0
PRODID:-//CJV Vlaardingen - ECPv6.15.19//NONSGML v1.0//EN
CALSCALE:GREGORIAN
METHOD:PUBLISH
X-ORIGINAL-URL:https://cjvvlaardingen.nl
X-WR-CALDESC:Evenementen voor CJV Vlaardingen
REFRESH-INTERVAL;VALUE=DURATION:PT1H
X-Robots-Tag:noindex
X-PUBLISHED-TTL:PT1H
BEGIN:VTIMEZONE
TZID:Europe/Amsterdam
BEGIN:DAYLIGHT
TZOFFSETFROM:+0100
TZOFFSETTO:+0200
TZNAME:CEST
DTSTART:20200329T010000
END:DAYLIGHT
BEGIN:STANDARD
TZOFFSETFROM:+0200
TZOFFSETTO:+0100
TZNAME:CET
DTSTART:20201025T010000
END:STANDARD
BEGIN:DAYLIGHT
TZOFFSETFROM:+0100
TZOFFSETTO:+0200
TZNAME:CEST
DTSTART:20210328T010000
END:DAYLIGHT
BEGIN:STANDARD
TZOFFSETFROM:+0200
TZOFFSETTO:+0100
TZNAME:CET
DTSTART:20211031T010000
END:STANDARD
BEGIN:DAYLIGHT
TZOFFSETFROM:+0100
TZOFFSETTO:+0200
TZNAME:CEST
DTSTART:20220327T010000
END:DAYLIGHT
BEGIN:STANDARD
TZOFFSETFROM:+0200
TZOFFSETTO:+0100
TZNAME:CET
DTSTART:20221030T010000
END:STANDARD
END:VTIMEZONE
BEGIN:VEVENT
DTSTART;TZID=Europe/Amsterdam:20211119T193000
DTEND;TZID=Europe/Amsterdam:20211119T223000
DTSTAMP:20260425T052526
CREATED:20211105T104328Z
LAST-MODIFIED:20211105T104328Z
UID:7259-1637350200-1637361000@cjvvlaardingen.nl
SUMMARY:Tieneravond: Escaperoom
DESCRIPTION:Op vrijdagavond 19 november is het Preathuys weer geopend voor iedereen tussen de 12 en 16 jaar. Dit keer kan je meedoen met de Escaperoom. Met behulp van puzzeltjes en attributen moet je proberen te ontsnappen. \nOok liggen de spelletjes weer klaar\, kan je een potje poolen en tafelvoetballen. Het wordt vooral een leuke en gezellige avond waarbij je lekker met je vrienden kunt chillen en bijkletsen. \nBen je tussen de 12 en 14 jaar oud? Dan start voor jou deze avond om 19.30. Iedereen tussen de 15 en 16 jaar is welkom om 21.00. De 12-\, 13- en 14-jarige zijn vrij om na 21.00 te blijven\, zij mogen hier zelf hun keuze in maken. \nDatum en tijdstip: vrijdag 19 November. Start 12 t/m 14 jaar om 19.30. Start 15-16 jaar om 21.00. Om 22.30 einde van de avond.\nLeeftijd: 12 t/m 16 jaar\nLocatie: Jeugdgebouw Obadja\, Willem Beukelszoonstraat 49\nKosten: €2\,- voor leden\, €4\,- voor niet-leden \nAanmelden
URL:https://cjvvlaardingen.nl/agenda/tieneravond-escaperoom/
LOCATION:Jeugdgebouw Obadja\, Willem Beukelsznstraat 49\, Vlaardingen
CATEGORIES:Jeugdclub,Junioren,spel,Tieners
END:VEVENT
END:VCALENDAR