BEGIN:VCALENDAR
VERSION:2.0
PRODID:-//CJV Vlaardingen - ECPv6.15.19//NONSGML v1.0//EN
CALSCALE:GREGORIAN
METHOD:PUBLISH
X-WR-CALNAME:CJV Vlaardingen
X-ORIGINAL-URL:https://cjvvlaardingen.nl
X-WR-CALDESC:Evenementen voor CJV Vlaardingen
REFRESH-INTERVAL;VALUE=DURATION:PT1H
X-Robots-Tag:noindex
X-PUBLISHED-TTL:PT1H
BEGIN:VTIMEZONE
TZID:UTC
BEGIN:STANDARD
TZOFFSETFROM:+0000
TZOFFSETTO:+0000
TZNAME:UTC
DTSTART:20220101T000000
END:STANDARD
END:VTIMEZONE
BEGIN:VTIMEZONE
TZID:Europe/Amsterdam
BEGIN:DAYLIGHT
TZOFFSETFROM:+0100
TZOFFSETTO:+0200
TZNAME:CEST
DTSTART:20240331T010000
END:DAYLIGHT
BEGIN:STANDARD
TZOFFSETFROM:+0200
TZOFFSETTO:+0100
TZNAME:CET
DTSTART:20241027T010000
END:STANDARD
BEGIN:DAYLIGHT
TZOFFSETFROM:+0100
TZOFFSETTO:+0200
TZNAME:CEST
DTSTART:20250330T010000
END:DAYLIGHT
BEGIN:STANDARD
TZOFFSETFROM:+0200
TZOFFSETTO:+0100
TZNAME:CET
DTSTART:20251026T010000
END:STANDARD
BEGIN:DAYLIGHT
TZOFFSETFROM:+0100
TZOFFSETTO:+0200
TZNAME:CEST
DTSTART:20260329T010000
END:DAYLIGHT
BEGIN:STANDARD
TZOFFSETFROM:+0200
TZOFFSETTO:+0100
TZNAME:CET
DTSTART:20261025T010000
END:STANDARD
BEGIN:DAYLIGHT
TZOFFSETFROM:+0100
TZOFFSETTO:+0200
TZNAME:CEST
DTSTART:20270328T010000
END:DAYLIGHT
BEGIN:STANDARD
TZOFFSETFROM:+0200
TZOFFSETTO:+0100
TZNAME:CET
DTSTART:20271031T010000
END:STANDARD
END:VTIMEZONE
BEGIN:VEVENT
DTSTART;VALUE=DATE:20231118
DTEND;VALUE=DATE:20231119
DTSTAMP:20260421T145555
CREATED:20231023T120249Z
LAST-MODIFIED:20231023T120506Z
UID:8974-1700265600-1700351999@cjvvlaardingen.nl
SUMMARY:Sinterklaasintocht Vlaardingen
DESCRIPTION:Onze gratis activiteiten vinden weer plaats in de Waalstraat\, de Fransenstraat en  het SUPER SINT FESTIJN is het weer op het Veerplein.\nNamens CJV en onze enthousiaste vrijwilligers heten wij jullie welkom. \nDe Sint bezoekt deze dag verschillende winkelcentra en ook de woon- & autoboulevard. \nVoor het programma\, houd onze socials in de gaten en vooral deze pagina. \nSuper Sint Festijn\nDe pieten zijn niet alleen goed in cadeautjes rondbrengen en pepernoten bakken\, maar ze zijn ook handig en bewegen heel graag!\nDoe jij mee met de Pieten?\nOp het Veerplein en in de Fransenstraat zijn tal van sporten\, spelen en acrobatiek. In de Waalstraat hebben we allerlei technische snufjes. Kom eens kijken en misschien zie je ook kluspiet? \nHet Super Sint Festijn start om 11.00 uur. \n  \n50 jarig jubileum\nWat in 1973 een ‘noodgreep’ was\, de oude organisatie van (Vlaardingse) ondernemers stopte met het organiseren van de sinterklaasintocht\, is inmiddels een 50 jaar oude traditie geworden. \nDestijds had de FiCo (de filmclub van jeugdvereniging CJV Vlaardingen) hun 25 jarig jubileum. Zij wilde de intocht als verjaardagscadeau aan alle Vlaardingse kinderen organiseren. \nMaar wat een eenmalig cadeau was\, bleek een vaste waarde te worden. Al 50 jaar organiseert de CJV Vlaardingen met hun vrijwilligers de Sinterklaasintocht. Waarvan sommige vrijwilligers al meer dan 40 jaar betrokken zijn bij de organisatie. \nDe organisatie heeft alle ontwikkelingen wel meegemaakt. Wat ooit begon als een ‘kleine’ intocht\, een stoomboot\, twee muziekkorpsen en een bezoek aan de buitenwijken. Vandaag de dag komen mensen vanuit de hele regio naar de Vlaardingse intocht\, die met veel liefde wordt georganiseerd. \n\nVele vrijwilligers helpen Sinterklaas\nEen kernteam van 30 personen is het hele jaar bezig om de intocht voor te bereiden. En hoe dichter bij de desbetreffende datum\, hoe meer mensen aanhaken. Tot er op de dag van de intocht zo’n 400 mensen actief zijn om er weer een succes van te maken. Wat ook nodig is\, want de intocht trekt vandaag de dag duizenden bezoekers. Om bij één van de podia mee te kunnen dansen. Of deel te kunnen nemen aan het gratis Feestplein (met springkussens\, dansoptredens\, verkeersplein\, zweefmolen\, knutselen\, schminken\, etc.). \nWil jij op 18 november meehelpen met één van de activiteiten? Stuur dan een email naar sint@cjvvlaardingen.nl  \n  \nLive-uitzending volgen? \nOok dit jaar is het weer mogelijk om de feestelijkheden te volgen via de live-uitzending op www.sintinvlaardingen.nl en live op Facebook. Dat levert weer mooie beelden op van de haven en het historische centrum van Vlaardingen. Sinterklaas vindt dat zelf ook heel bijzonder: “Ik kijk er enorm naar uit om weer naar Vlaardingen te komen”. \n  \nHoud de komende weken www.sintinvlaardingen.nl en www.facebook.com/sintinvlaardingen of www.instagram.com/sintinvlaardingen in de gaten voor alle informatie.
URL:https://cjvvlaardingen.nl/agenda/sinterklaasintocht-vlaardingen/
LOCATION:Zuid Holland
CATEGORIES:Dagevenement
ATTACH;FMTTYPE=image/jpeg:https://cjvvlaardingen.nl/wp-content/uploads/2022/09/306275317_492649269533284_3989179735723013601_n.jpg
END:VEVENT
BEGIN:VEVENT
DTSTART;TZID=Europe/Amsterdam:20250830T100000
DTEND;TZID=Europe/Amsterdam:20250831T160000
DTSTAMP:20260421T145555
CREATED:20250716T130649Z
LAST-MODIFIED:20250716T130820Z
UID:11328-1756548000-1756656000@cjvvlaardingen.nl
SUMMARY:Zomer 2Daagse
DESCRIPTION:🌞 Zomer2daagse Vlaardingen – Twee dagen vol plezier! 🌞 \nZin in twee onvergetelijke zomerdagen boordevol gezelligheid\, creativiteit en leuke activiteiten? Kom dan naar de Zomer2daagse in Vlaardingen! 🎉 \nLaat je verrassen door een bomvol programma met vrolijke spelletjes\, creatieve workshops\, uitdagende opdrachten en natuurlijk een flinke dosis gelach. Of je nu houdt van knutselen\, bewegen\, ontdekken of gewoon lekker kletsen – er is voor ieder wat wils! 🤹‍♀️🎨🎭Samen maken we er een feestje van met dagelijks een gezellige gezamenlijke lunch waar we samen genieten van lekker eten. \nKom zoals je bent\, neem je goede humeur en wat sportspullen mee\, en beleef twee dagen die je niet snel zult vergeten! \nWanneer: 30 & 31 augustus\, elke dag van 10:00 tot 16:00\nWaar: WIJ-land Holy\, Boederijpad 5\nVoor wie: Kinderen tussen 7 en 12 jaar\nKosten: 15 per inschrijving \nLaat je zoon of dochter lekker meedoen en zorg samen met ons voor een onvergetelijk laatste weekend van de vakantie!!\nZien we jou daar? Zet het in je agenda en neem je vrienden mee! 💛 \nAanmelden kan via onderstaande link: \nAanmelden\n  \n 
URL:https://cjvvlaardingen.nl/agenda/zomer2daagse/
LOCATION:boerderijpad 5 vlaardingen\, Boerderijpad 5\, Vlaardingen\, Nederland
CATEGORIES:Dagevenement,Junioren,spel,Sport,Zomerdriedaagse
ATTACH;FMTTYPE=image/png:https://cjvvlaardingen.nl/wp-content/uploads/2025/07/Zomer2daagse-2025.png
END:VEVENT
BEGIN:VEVENT
DTSTART;TZID=Europe/Amsterdam:20260818T100000
DTEND;TZID=Europe/Amsterdam:20260820T160000
DTSTAMP:20260421T145555
CREATED:20260401T142008Z
LAST-MODIFIED:20260401T142127Z
UID:11734-1787047200-1787241600@cjvvlaardingen.nl
SUMMARY:Zomer 3 Daagse 2026
DESCRIPTION:☀️ Zomerdriedaagse Vlaardingen – Drie dagen vol plezier! 🎉 \nBen jij klaar voor drie onvergetelijke dagen deze zomer? Tijdens de Zomerdriedaagse in Vlaardingen beleven kinderen een geweldige tijd vol leuke workshops\, spannende spelletjes en vooral heel veel gezelligheid!\nSamen met andere kinderen wordt er gelachen\, ontdekt en gespeeld. Elke dag zit boordevol verrassende activiteiten waarbij je nieuwe vrienden maakt en mooie herinneringen creëert. Of je nu houdt van creatief bezig zijn\, actief spelen of gewoon lekker samen plezier maken – de Zomerdriedaagse heeft het allemaal! \n🎈 Drie dagen plezier\n🎨 Leuke en afwisselende workshops\n🤸‍♂️ Spel en beweging\n😄 Nieuwe vrienden en heel veel lachen \nMis het niet en beleef de leukste dagen van je zomer! 🌞 \nWanneer: 18 – 19 – 20 augustus\, elke dag van 10:00 tot 16:00\nWaar: WIJ-land Holy\, Boederijpad 5\nVoor wie: Kinderen tussen 7 en 12 jaar\nKosten: 30\,- (leden) / 36\,- (geen lid) \nZien we jou daar? Zet het in je agenda en neem je vrienden mee! 💛 \nAanmelden kan via onderstaande link: \nAanmelden\n  \n 
URL:https://cjvvlaardingen.nl/agenda/zomer2daagse-2/
LOCATION:WIJ-Land Holy\, Boederijpad 5\, Vlaardingen\, Zuid Holland\, 3137 RR
CATEGORIES:Dagevenement,Junioren,spel,Sport,Zomerdriedaagse
ATTACH;FMTTYPE=image/png:https://cjvvlaardingen.nl/wp-content/uploads/2026/04/Website-Z3D-2026.png
END:VEVENT
END:VCALENDAR