BEGIN:VCALENDAR
VERSION:2.0
PRODID:-//CJV Vlaardingen - ECPv6.15.19//NONSGML v1.0//EN
CALSCALE:GREGORIAN
METHOD:PUBLISH
X-WR-CALNAME:CJV Vlaardingen
X-ORIGINAL-URL:https://cjvvlaardingen.nl
X-WR-CALDESC:Evenementen voor CJV Vlaardingen
REFRESH-INTERVAL;VALUE=DURATION:PT1H
X-Robots-Tag:noindex
X-PUBLISHED-TTL:PT1H
BEGIN:VTIMEZONE
TZID:Europe/Amsterdam
BEGIN:DAYLIGHT
TZOFFSETFROM:+0100
TZOFFSETTO:+0200
TZNAME:CEST
DTSTART:20220327T010000
END:DAYLIGHT
BEGIN:STANDARD
TZOFFSETFROM:+0200
TZOFFSETTO:+0100
TZNAME:CET
DTSTART:20221030T010000
END:STANDARD
BEGIN:DAYLIGHT
TZOFFSETFROM:+0100
TZOFFSETTO:+0200
TZNAME:CEST
DTSTART:20230326T010000
END:DAYLIGHT
BEGIN:STANDARD
TZOFFSETFROM:+0200
TZOFFSETTO:+0100
TZNAME:CET
DTSTART:20231029T010000
END:STANDARD
BEGIN:DAYLIGHT
TZOFFSETFROM:+0100
TZOFFSETTO:+0200
TZNAME:CEST
DTSTART:20240331T010000
END:DAYLIGHT
BEGIN:STANDARD
TZOFFSETFROM:+0200
TZOFFSETTO:+0100
TZNAME:CET
DTSTART:20241027T010000
END:STANDARD
END:VTIMEZONE
BEGIN:VEVENT
DTSTART;TZID=Europe/Amsterdam:20230507T140000
DTEND;TZID=Europe/Amsterdam:20230507T160000
DTSTAMP:20260421T190404
CREATED:20230414T091411Z
LAST-MODIFIED:20230414T091411Z
UID:8619-1683468000-1683475200@cjvvlaardingen.nl
SUMMARY:Legomiddag (9-12 jaar)
DESCRIPTION:Tijdens de Legomiddag krijgen de deelnemers verschillende bouwopdrachten. Tijdens deze opdrachten zijn ze in groepjes bezig met het bouwen van de mooiste bouwwerken van Lego. Voor deze activiteit hebben we nog iets anders leuks in petto: Het bouwen met Technisch Lego! De opdrachten zullen dan ook iets technischer en uitdagender zijn dan de andere Legomiddag. \nTijd: 7 mei\, 14:00-16:00 \nLocatie: Gebouw Obadja\, Willem Beukelszoonstraat 49 \nLeeftijd: 9-12 (voor de leeftijd 6-8 hebben we een andere Legomiddag) \nKosten: Gratis \nVanwege het beperkt aantal blokjes dat wij hebben\, is aanmelden verplicht via de volgende link: \nAanmelden\n  \n(Dit betekent dat er een kans is dat kinderen die ter plekke aan de deur staan zonder reservering niet toegelaten kunnen worden) 
URL:https://cjvvlaardingen.nl/agenda/legomiddag-9-12-jaar/
LOCATION:Zuid Holland
CATEGORIES:Dagevenement,Lego
ATTACH;FMTTYPE=image/jpeg:https://cjvvlaardingen.nl/wp-content/uploads/2023/04/pagina01-1-scaled.jpg
END:VEVENT
END:VCALENDAR