BEGIN:VCALENDAR
VERSION:2.0
PRODID:-//CJV Vlaardingen - ECPv6.15.19//NONSGML v1.0//EN
CALSCALE:GREGORIAN
METHOD:PUBLISH
X-ORIGINAL-URL:https://cjvvlaardingen.nl
X-WR-CALDESC:Evenementen voor CJV Vlaardingen
REFRESH-INTERVAL;VALUE=DURATION:PT1H
X-Robots-Tag:noindex
X-PUBLISHED-TTL:PT1H
BEGIN:VTIMEZONE
TZID:UTC
BEGIN:STANDARD
TZOFFSETFROM:+0000
TZOFFSETTO:+0000
TZNAME:UTC
DTSTART:20220101T000000
END:STANDARD
END:VTIMEZONE
BEGIN:VEVENT
DTSTART;TZID=UTC:20230423T140000
DTEND;TZID=UTC:20230423T160000
DTSTAMP:20260421T190302
CREATED:20230414T090122Z
LAST-MODIFIED:20230414T091618Z
UID:8615-1682258400-1682265600@cjvvlaardingen.nl
SUMMARY:Legomiddag (6-8 jaar)
DESCRIPTION:Tijdens de Legomiddag krijgen de deelnemers verschillende bouwopdrachten. Tijdens deze opdrachten zijn ze in groepjes bezig met het bouwen van de mooiste bouwwerken van Lego. \nTijd: 23 april\, 14:00-16:00 \nLocatie: Gebouw Obadja\, Willem Beukelszoonstraat 49 \nLeeftijd: 6-8 (voor de leeftijd 9-12 hebben we een andere Legomiddag) \nKosten: Gratis \nVanwege het beperkt aantal blokjes dat wij hebben\, is aanmelden verplicht via de volgende link: \nAanmelden\n  \n(Dit betekent dat er een kans is dat kinderen die ter plekke aan de deur staan zonder reservering niet toegelaten kunnen worden) 
URL:https://cjvvlaardingen.nl/agenda/legomiddag-6-8-jaar/
LOCATION:Zuid Holland
CATEGORIES:Dagevenement,Lego
ATTACH;FMTTYPE=image/jpeg:https://cjvvlaardingen.nl/wp-content/uploads/2023/04/pagina01-scaled.jpg
END:VEVENT
BEGIN:VEVENT
DTSTART;TZID=UTC:20230427T110000
DTEND;TZID=UTC:20230427T160000
DTSTAMP:20260421T190302
CREATED:20221222T223508Z
LAST-MODIFIED:20240111T142423Z
UID:8394-1682593200-1682611200@cjvvlaardingen.nl
SUMMARY:Jeugdfestijn 2023
DESCRIPTION:Inmiddels een begrip in Vlaardingen: Het Jeugdfestijn van de CJV Vlaardingen! \nElk jaar zijn er op Koningsdag weer veel spelletjes te doen op de Fransenstraat en in ons gebouw Triangel. \n  \nEendjes hengelen\, blikgooien en touwtjetrekken zijn een paar voorbeelden van spellen die er deze dag te doen zijn. Met een afstreepkaart kunnen de kinderen langs de activiteiten en kleine speeltjes winnen. Deze afstreepkaarten zijn te koop bij de infokraam op de Fransenstraat of in gebouw Triangel bij de bar\, waar je ook iets lekkers te eten en drinken kunt halen.
URL:https://cjvvlaardingen.nl/agenda/jeugdfestijn-2023/
LOCATION:Fransenstraat vlaardingen\, Fransenstraat\, Vlaardingen\, Nederland
CATEGORIES:Dagevenement
ATTACH;FMTTYPE=image/jpeg:https://cjvvlaardingen.nl/wp-content/uploads/2019/04/thumb_IMG_3430_1024.jpg
END:VEVENT
END:VCALENDAR