BEGIN:VCALENDAR
VERSION:2.0
PRODID:-//CJV Vlaardingen - ECPv6.15.19//NONSGML v1.0//EN
CALSCALE:GREGORIAN
METHOD:PUBLISH
X-ORIGINAL-URL:https://cjvvlaardingen.nl
X-WR-CALDESC:Evenementen voor CJV Vlaardingen
REFRESH-INTERVAL;VALUE=DURATION:PT1H
X-Robots-Tag:noindex
X-PUBLISHED-TTL:PT1H
BEGIN:VTIMEZONE
TZID:UTC
BEGIN:STANDARD
TZOFFSETFROM:+0000
TZOFFSETTO:+0000
TZNAME:UTC
DTSTART:20210101T000000
END:STANDARD
END:VTIMEZONE
BEGIN:VEVENT
DTSTART;VALUE=DATE:20221112
DTEND;VALUE=DATE:20221113
DTSTAMP:20260422T031040
CREATED:20220924T134113Z
LAST-MODIFIED:20220924T134113Z
UID:8138-1668211200-1668297599@cjvvlaardingen.nl
SUMMARY:Sinterklaasintocht
DESCRIPTION:Ook dit jaar komt Sinterklaas weer aan in Vlaardingen! Zoals elk jaar kun je Sinterklaas de Vlaardingse haven binnen zien varen en zijn er daarna weer diverse activiteiten te doen op o.a. het Veerplein. \nHet exacte programma wordt binnenkort bekend gemaakt. Hiervoor kun je de Facebook-pagina van Sintinvlaardingen volgen om op de hoogte te blijven. \n 
URL:https://cjvvlaardingen.nl/agenda/sinterklaasintocht/
LOCATION:Veerplein Vlaardingen\, Veerplein\, Vlaardingen
CATEGORIES:Dagevenement,Junioren
ATTACH;FMTTYPE=image/jpeg:https://cjvvlaardingen.nl/wp-content/uploads/2022/09/306275317_492649269533284_3989179735723013601_n.jpg
END:VEVENT
END:VCALENDAR